BEGIN:VCALENDAR
VERSION:2.0
PRODID:-//Calgary Gospel Assembly - ECPv6.15.20//NONSGML v1.0//EN
CALSCALE:GREGORIAN
METHOD:PUBLISH
X-ORIGINAL-URL:https://gacalgary.org
X-WR-CALDESC:Events for Calgary Gospel Assembly
REFRESH-INTERVAL;VALUE=DURATION:PT1H
X-Robots-Tag:noindex
X-PUBLISHED-TTL:PT1H
BEGIN:VTIMEZONE
TZID:UTC
BEGIN:STANDARD
TZOFFSETFROM:+0000
TZOFFSETTO:+0000
TZNAME:UTC
DTSTART:20230101T000000
END:STANDARD
END:VTIMEZONE
BEGIN:VEVENT
DTSTART;TZID=UTC:20240331T120000
DTEND;TZID=UTC:20240331T143000
DTSTAMP:20260423T110418
CREATED:20240203T082503Z
LAST-MODIFIED:20240203T210001Z
UID:23913-1711886400-1711895400@gacalgary.org
SUMMARY:Sunday Service at Calgary Gospel Assembly
DESCRIPTION:Elevate your spirit and join us for a soul-enriching experience at the Sunday Service hosted by the Calgary Gospel Assembly. Every Sunday\, we come together as a community to worship\, connect\, and draw inspiration from the teachings of faith. \nDate: Every Sunday Time: 12pm Location: Calgary Gospel Assembly\, Calgary Alberta\, Canada—\n4315 26 Ave SE\, Calgary\, AB T2B 0E1 \nWhat to Expect: \n\nHeartfelt Worship: Immerse yourself in a powerful worship experience led by our talented music ministry. Lift your spirit through soul-stirring hymns and contemporary worship songs that create an atmosphere of reverence and joy.\nInspiring Message: Receive empowering and relevant teachings from our dedicated pastoral team. Explore the timeless wisdom of scripture and discover how it can be applied to your everyday life.\nCommunity Fellowship: Connect with a welcoming community of believers. Sunday Service provides a unique opportunity to build meaningful relationships\, share stories\, and support one another on your spiritual journey.\nPrayer and Reflection: Engage in moments of prayer and reflection\, allowing you to connect with the divine and find solace in the midst of life’s challenges.\nYouth and Children’s Programs: Bring the whole family! Our Sunday Service includes engaging programs for youth and children\, fostering a nurturing environment for their spiritual growth.\nCoffee and Fellowship: Following the service\, join us for a time of casual fellowship over coffee. Connect with old friends and make new ones as we build a strong sense of community together.\n\nHow to Participate: \n\nOpen Invitation: All are welcome to attend\, regardless of background or faith journey. Whether you’re a long-time member or a first-time visitor\, we invite you to join us for a meaningful and uplifting Sunday Service.\nArrival: Arrive a little early to find parking and settle in comfortably before the service begins.\nDress Comfortably: Come as you are. We welcome you in casual or formal attire\, whichever makes you feel most comfortable.\n\nExperience the warmth of community\, the joy of worship\, and the transformative power of spiritual connection at the Sunday Service of the Calgary Gospel Assembly. We look forward to welcoming you and sharing in this uplifting journey together!
URL:https://gacalgary.org/event/sunday-service-at-calgary-gospel-assembly/
LOCATION:Calgary Gospel Assembly\, 4315 26 Avenue SE\, Calgary\, Alberta\, T2B 0E1\, Canada
ATTACH;FMTTYPE=image/jpeg:https://gacalgary.org/wp-content/uploads/2024/02/Calgary-Gospel-Assembly-Brother-David-Paul.jpg
ORGANIZER;CN="Calgary Gospel Assembly":MAILTO:info@CalgaryGospelAssembly.org
END:VEVENT
BEGIN:VEVENT
DTSTART;VALUE=DATE:20240329
DTEND;VALUE=DATE:20240331
DTSTAMP:20260423T110418
CREATED:20200428T132832Z
LAST-MODIFIED:20240226T130008Z
UID:1200-1711670400-1711843199@gacalgary.org
SUMMARY:March 2024 Fellowship Meeting at Calgary Gospel Assembly
DESCRIPTION:https://calgarygospelassembly.org/wp-content/uploads/2020/04/March-2024-Fellowship-Meeting-at-Calgary-Gospel-Assembly.mp4\nJoin us for a momentous gathering at the Calgary Gospel Assembly’s March 2024 Fellowship Meeting! This event promises to be a celebration of unity\, spiritual growth\, and community building. Set against the backdrop of the beautiful city of Calgary\, this meeting is designed to bring together individuals from diverse backgrounds for a shared experience of faith\, fellowship\, and inspiration. \nDate: March 29th – 30th 2024 Time: 11am -3pm then 7pm – 10pm  Location: Southview Community Association\, 2020 33 St SE\, Calgary\, AB T2B 0P7\, Canada \nHighlights of the March 2024 Fellowship Meeting include: \n\nInspiring Speakers: Engage with dynamic speakers who will share insights\, wisdom\, and perspectives on faith\, community\, and personal growth.\nInteractive Workshops: Participate in thought-provoking workshops designed to deepen your understanding of spiritual principles and provide practical tools for everyday living.\nHeartfelt Worship: Experience uplifting worship sessions that will elevate your spirit and create an atmosphere of reverence and joy.\nNetworking Opportunities: Connect with fellow attendees\, build meaningful relationships\, and strengthen the bonds of fellowship within the community.\nCommunity Outreach: Contribute to a special community outreach initiative as part of our commitment to making a positive impact in the lives of those in need.\nFellowship Dinner: Enjoy a delightful fellowship dinner\, creating an opportunity to share stories\, laughter\, and delicious food with members of the Calgary Gospel Assembly family.\n\nCome and be a part of this transformative event as we come together in the spirit of unity and love. Whether you are a long-time member or a first-time visitor\, the March 2024 Fellowship Meeting is an inclusive and welcoming space for everyone seeking inspiration\, connection\, and spiritual growth. \nDon’t miss out on this incredible gathering of hearts and minds at the Calgary Gospel Assembly. Save the date\, invite your friends and family\, and join us for a memorable and uplifting experience!
URL:https://gacalgary.org/event/march-2024-fellowship-meeting/
LOCATION:Southview Community Association\, 2020 33 St SE\, Calgary\, Alberta\, T2B 0P7\, Canada
CATEGORIES:Prayers,Seminary
ATTACH;FMTTYPE=image/jpeg:https://gacalgary.org/wp-content/uploads/2020/04/Calgary-Gospel-Assembly-Fellowship-Meeting-2024.jpg
ORGANIZER;CN="Calgary Gospel Assembly":MAILTO:info@CalgaryGospelAssembly.org
END:VEVENT
END:VCALENDAR